BEGIN:VCALENDAR
VERSION:2.0
PRODID:-//pretix//pretix.eu//
BEGIN:VTIMEZONE
TZID:Europe/Madrid
BEGIN:STANDARD
DTSTART:20001029T040000
RRULE:FREQ=YEARLY;BYDAY=-1SU;BYMONTH=10
TZNAME:CET
TZOFFSETFROM:+0200
TZOFFSETTO:+0100
END:STANDARD
BEGIN:DAYLIGHT
DTSTART:20000326T030000
RRULE:FREQ=YEARLY;BYDAY=-1SU;BYMONTH=3
TZNAME:CEST
TZOFFSETFROM:+0100
TZOFFSETTO:+0200
END:DAYLIGHT
END:VTIMEZONE
BEGIN:VEVENT
UID:pretix-iceers-aya2026-0@pretix.eu
DTSTART;TZID=Europe/Madrid:20260911T090000
DTEND;TZID=Europe/Madrid:20260913T220000
DESCRIPTION:Tickets: https://pretix.eu/iceers/aya2026/\nOrganizer: World Ay
 ahuasca Forum
DTSTAMP:20260425T210939Z
LOCATION:Palau de congressos\, Girona\, Catalonia
SUMMARY:World Ayahuasca Forum
END:VEVENT
END:VCALENDAR
