BEGIN:VCALENDAR
VERSION:2.0
PRODID:-//pretix//pretix.eu//
BEGIN:VTIMEZONE
TZID:Europe/Berlin
BEGIN:STANDARD
DTSTART:20001029T040000
RRULE:FREQ=YEARLY;BYDAY=-1SU;BYMONTH=10
TZNAME:CET
TZOFFSETFROM:+0200
TZOFFSETTO:+0100
END:STANDARD
BEGIN:DAYLIGHT
DTSTART:20000326T030000
RRULE:FREQ=YEARLY;BYDAY=-1SU;BYMONTH=3
TZNAME:CEST
TZOFFSETFROM:+0100
TZOFFSETTO:+0200
END:DAYLIGHT
END:VTIMEZONE
BEGIN:VEVENT
UID:pretix-ignite-fokus-0@pretix.eu
DTSTART;TZID=Europe/Berlin:20260407T160000
DTEND;TZID=Europe/Berlin:20260407T183000
DESCRIPTION:Tickets: https://pretix.eu/ignite/fokus/\nEinlass: 07.04.2026 1
 5:45\nVeranstalter: Typoint
DTSTAMP:20260424T174010Z
LOCATION:Digital / Online-Workshop
SUMMARY:Ignite Deep Dive: Wirklich wirksam arbeiten. Fokus statt Dauerstres
 s
END:VEVENT
END:VCALENDAR
