BEGIN:VCALENDAR
VERSION:2.0
PRODID:-//pretix//pretix.eu//
BEGIN:VTIMEZONE
TZID:Europe/Berlin
BEGIN:STANDARD
DTSTART:20001029T040000
RRULE:FREQ=YEARLY;BYDAY=-1SU;BYMONTH=10
TZNAME:CET
TZOFFSETFROM:+0200
TZOFFSETTO:+0100
END:STANDARD
BEGIN:DAYLIGHT
DTSTART:20000326T030000
RRULE:FREQ=YEARLY;BYDAY=-1SU;BYMONTH=3
TZNAME:CEST
TZOFFSETFROM:+0100
TZOFFSETTO:+0200
END:DAYLIGHT
END:VTIMEZONE
BEGIN:VEVENT
UID:pretix-in-gl-Buergerakademie-4835827@pretix.eu
DTSTART;TZID=Europe/Berlin:20260311T193000
DTEND;TZID=Europe/Berlin:20260311T203000
DESCRIPTION:Tickets: https://pretix.eu/in-gl/Buergerakademie/4835827/\nVera
 nstalter: Bürgerportal Bergisch Gladbach
DTSTAMP:20260424T220701Z
LOCATION:Redaktion Bürgerportal\, Hauptstraße 257\, 51465 Bergisch Gladba
 ch
SUMMARY:BürgerAkademie: Was bringt der neue Haushalt?
END:VEVENT
END:VCALENDAR
