BEGIN:VCALENDAR
VERSION:2.0
PRODID:-//pretix//pretix.eu//
BEGIN:VTIMEZONE
TZID:Europe/Berlin
BEGIN:STANDARD
DTSTART:20001029T040000
RRULE:FREQ=YEARLY;BYDAY=-1SU;BYMONTH=10
TZNAME:CET
TZOFFSETFROM:+0200
TZOFFSETTO:+0100
END:STANDARD
BEGIN:DAYLIGHT
DTSTART:20000326T030000
RRULE:FREQ=YEARLY;BYDAY=-1SU;BYMONTH=3
TZNAME:CEST
TZOFFSETFROM:+0100
TZOFFSETTO:+0200
END:DAYLIGHT
END:VTIMEZONE
BEGIN:VEVENT
UID:pretix-info-pavillon-rundgang-3297443@pretix.eu
DTSTART;TZID=Europe/Berlin:20220918T073000
DTEND;TZID=Europe/Berlin:20220918T083000
DESCRIPTION:Tickets: https://pretix.eu/info-pavillon/rundgang/3297443/\nVer
 anstalter: Info-Pavillon Tempelhofer Feld
DTSTAMP:20260425T115026Z
LOCATION:Treffpunkt: Info-Pavillon
SUMMARY:Rundgang: Natur-Begegnung am Morgen
END:VEVENT
END:VCALENDAR
