BEGIN:VCALENDAR
VERSION:2.0
PRODID:-//pretix//pretix.eu//
BEGIN:VTIMEZONE
TZID:Europe/Berlin
BEGIN:STANDARD
DTSTART:20001029T040000
RRULE:FREQ=YEARLY;BYDAY=-1SU;BYMONTH=10
TZNAME:CET
TZOFFSETFROM:+0200
TZOFFSETTO:+0100
END:STANDARD
BEGIN:DAYLIGHT
DTSTART:20000326T030000
RRULE:FREQ=YEARLY;BYDAY=-1SU;BYMONTH=3
TZNAME:CEST
TZOFFSETFROM:+0100
TZOFFSETTO:+0200
END:DAYLIGHT
END:VTIMEZONE
BEGIN:VEVENT
UID:pretix-intborgerservice-acwlive2023-0@pretix.eu
DTSTART;TZID=Europe/Berlin:20230930T100000
DTEND;TZID=Europe/Berlin:20230930T140000
DESCRIPTION:Tickets: https://pretix.eu/intborgerservice/acwlive2023/\nAdmis
 sion: 2023-09-30 09:45\nOrganizer: Citizen Service\, City of Aarhus
DTSTAMP:20260423T110553Z
LOCATION:Online from Aarhus\, Denmark
SUMMARY:LIVESTREAM OF SPEAKERS' CORNER - Aarhus City Welcome 2023
END:VEVENT
END:VCALENDAR
