BEGIN:VCALENDAR
VERSION:2.0
PRODID:-//pretix//pretix.eu//
BEGIN:VTIMEZONE
TZID:Europe/Lisbon
BEGIN:STANDARD
DTSTART:20001029T030000
RRULE:FREQ=YEARLY;BYDAY=-1SU;BYMONTH=10
TZNAME:WET
TZOFFSETFROM:+0100
TZOFFSETTO:+0000
END:STANDARD
BEGIN:DAYLIGHT
DTSTART:20000326T020000
RRULE:FREQ=YEARLY;BYDAY=-1SU;BYMONTH=3
TZNAME:WEST
TZOFFSETFROM:+0000
TZOFFSETTO:+0100
END:DAYLIGHT
END:VTIMEZONE
BEGIN:VEVENT
UID:pretix-irdi-zevedi-blockchain2024-0@pretix.eu
DTSTART;TZID=Europe/Lisbon:20240716T093000
DTEND;TZID=Europe/Lisbon:20240718T163000
DESCRIPTION:Tickets: https://pretix.eu/irdi-zevedi/blockchain2024/\nOrganiz
 er: Institut für das Recht der Digitalisierung\, Universität Marburg
DTSTAMP:20260424T120956Z
SUMMARY:Blockchain Summit 2024
END:VEVENT
END:VCALENDAR
