BEGIN:VCALENDAR
VERSION:2.0
PRODID:-//pretix//pretix.eu//
BEGIN:VEVENT
UID:pretix-is-its-blockchain-0@pretix.eu
DTSTART;VALUE=DATE:20191126
DTEND;VALUE=DATE:20191128
DESCRIPTION:Tickets: https://pretix.eu/is-its/blockchain/\nVeranstalter: is
 its AG International School of IT Security
DTSTAMP:20260420T032254Z
LOCATION:Bochum
SUMMARY:2. Blockchain Secuity Days
END:VEVENT
END:VCALENDAR
