BEGIN:VCALENDAR
VERSION:2.0
PRODID:-//pretix//pretix.eu//
BEGIN:VEVENT
UID:pretix-is-its-cybics2019-0@pretix.eu
DTSTART;VALUE=DATE:20190917
DTEND;VALUE=DATE:20190919
DESCRIPTION:Tickets: https://pretix.eu/is-its/cybics2019/\nVeranstalter: is
 its AG International School of IT Security
DTSTAMP:20260423T191751Z
LOCATION:LPS Lern- und Forschungsfabrik\, Ruhr-Universität Bochum\, Indust
 riestraße 38c\, 44894 Bochum
SUMMARY:6. CYBICS 2019
END:VEVENT
END:VCALENDAR
