BEGIN:VCALENDAR
VERSION:2.0
PRODID:-//pretix//pretix.eu//
BEGIN:VTIMEZONE
TZID:Europe/Berlin
BEGIN:STANDARD
DTSTART:20001029T040000
RRULE:FREQ=YEARLY;BYDAY=-1SU;BYMONTH=10
TZNAME:CET
TZOFFSETFROM:+0200
TZOFFSETTO:+0100
END:STANDARD
BEGIN:DAYLIGHT
DTSTART:20000326T030000
RRULE:FREQ=YEARLY;BYDAY=-1SU;BYMONTH=3
TZNAME:CEST
TZOFFSETFROM:+0100
TZOFFSETTO:+0200
END:DAYLIGHT
END:VTIMEZONE
BEGIN:VEVENT
UID:pretix-isgfrankfurt-opus45-0@pretix.eu
DTSTART;TZID=Europe/Berlin:20260527T190000
DTEND;TZID=Europe/Berlin:20260527T200000
DESCRIPTION:Tickets: https://pretix.eu/isgfrankfurt/opus45/\nVeranstalter: 
 Institut für Stadtgeschichte Frankfurt am Main
DTSTAMP:20260421T160115Z
LOCATION:Institut für Stadtgeschichte\, Münzgasse 9\, 60311 Frankfurt am 
 Main\, Deutschland
SUMMARY:Opus 45: "Deutschland\, siehst Du das nicht?"
END:VEVENT
END:VCALENDAR
