BEGIN:VCALENDAR
VERSION:2.0
PRODID:-//pretix//pretix.eu//
BEGIN:VTIMEZONE
TZID:Europe/Berlin
BEGIN:STANDARD
DTSTART:20001029T040000
RRULE:FREQ=YEARLY;BYDAY=-1SU;BYMONTH=10
TZNAME:CET
TZOFFSETFROM:+0200
TZOFFSETTO:+0100
END:STANDARD
BEGIN:DAYLIGHT
DTSTART:20000326T030000
RRULE:FREQ=YEARLY;BYDAY=-1SU;BYMONTH=3
TZNAME:CEST
TZOFFSETFROM:+0100
TZOFFSETTO:+0200
END:DAYLIGHT
END:VTIMEZONE
BEGIN:VEVENT
UID:pretix-itk-sprogdata-0@pretix.eu
DTSTART;TZID=Europe/Berlin:20250829T130000
DTEND;TZID=Europe/Berlin:20250829T143000
DESCRIPTION:Billetter: https://pretix.eu/itk/sprogdata/\nOrganizer: ITK
DTSTAMP:20260421T171335Z
LOCATION:Dokk1\, Lokale: M2\, Hack Kampmanns Plads 2\, 8000 Aarhus C
SUMMARY:Workshop: Mangler jeres projekt sprogdata for at komme i mål?
END:VEVENT
END:VCALENDAR
