BEGIN:VCALENDAR
VERSION:2.0
PRODID:-//pretix//pretix.eu//
BEGIN:VTIMEZONE
TZID:Europe/Paris
BEGIN:STANDARD
DTSTART:20001029T040000
RRULE:FREQ=YEARLY;BYDAY=-1SU;BYMONTH=10
TZNAME:CET
TZOFFSETFROM:+0200
TZOFFSETTO:+0100
END:STANDARD
BEGIN:DAYLIGHT
DTSTART:20000326T030000
RRULE:FREQ=YEARLY;BYDAY=-1SU;BYMONTH=3
TZNAME:CEST
TZOFFSETFROM:+0100
TZOFFSETTO:+0200
END:DAYLIGHT
END:VTIMEZONE
BEGIN:VEVENT
UID:pretix-jardin-sciences-cahiersdoleances-0@pretix.eu
DTSTART;TZID=Europe/Paris:20241116T170000
DTEND;TZID=Europe/Paris:20241116T220000
DESCRIPTION:Tickets : https://pretix.eu/jardin-sciences/cahiersdoleances/\
 nOrganisateur : Jardin des sciences
DTSTAMP:20260419T135816Z
LOCATION:Théâtre municipal de Sainte-Marie-aux-Mines\, 2 Rue Osmont\,\, 6
 8160 Sainte-Marie-aux-Mines
SUMMARY:Restitution publique des "Nouveaux cahiers de doléances"
END:VEVENT
END:VCALENDAR
