BEGIN:VCALENDAR
VERSION:2.0
PRODID:-//pretix//pretix.eu//
BEGIN:VTIMEZONE
TZID:Europe/Paris
BEGIN:STANDARD
DTSTART:20001029T040000
RRULE:FREQ=YEARLY;BYDAY=-1SU;BYMONTH=10
TZNAME:CET
TZOFFSETFROM:+0200
TZOFFSETTO:+0100
END:STANDARD
BEGIN:DAYLIGHT
DTSTART:20000326T030000
RRULE:FREQ=YEARLY;BYDAY=-1SU;BYMONTH=3
TZNAME:CEST
TZOFFSETFROM:+0100
TZOFFSETTO:+0200
END:DAYLIGHT
END:VTIMEZONE
BEGIN:VEVENT
UID:pretix-jazzdemars-2026-4710047@pretix.eu
DTSTART;TZID=Europe/Paris:20260306T203000
DTEND;TZID=Europe/Paris:20260306T213000
DESCRIPTION:Tickets : https://pretix.eu/jazzdemars/2026/4710047/\nOrganisa
 teur : Jazz en réseau
DTSTAMP:20260422T061847Z
LOCATION:Espace Soutine - Lèves
SUMMARY:Ludivine Issambourg 6tet feat Brian Jackson (annulation Rhoda Scott
 ) et première partie : Zenyô
END:VEVENT
END:VCALENDAR
