BEGIN:VCALENDAR
VERSION:2.0
PRODID:-//pretix//pretix.eu//
BEGIN:VTIMEZONE
TZID:Europe/Paris
BEGIN:STANDARD
DTSTART:20001029T040000
RRULE:FREQ=YEARLY;BYDAY=-1SU;BYMONTH=10
TZNAME:CET
TZOFFSETFROM:+0200
TZOFFSETTO:+0100
END:STANDARD
BEGIN:DAYLIGHT
DTSTART:20000326T030000
RRULE:FREQ=YEARLY;BYDAY=-1SU;BYMONTH=3
TZNAME:CEST
TZOFFSETFROM:+0100
TZOFFSETTO:+0200
END:DAYLIGHT
END:VTIMEZONE
BEGIN:VEVENT
UID:pretix-jazzdemars-2026-4770062@pretix.eu
DTSTART;TZID=Europe/Paris:20260403T203000
DTEND;TZID=Europe/Paris:20260403T213000
DESCRIPTION:Tickets : https://pretix.eu/jazzdemars/2026/4770062/\nOrganisa
 teur : Jazz en réseau
DTSTAMP:20260422T131839Z
LOCATION:Mairie de Jallans
SUMMARY:Gin Bee
END:VEVENT
END:VCALENDAR
