BEGIN:VCALENDAR
VERSION:2.0
PRODID:-//pretix//pretix.eu//
BEGIN:VTIMEZONE
TZID:Asia/Tokyo
BEGIN:STANDARD
DTSTART:20000101T000000
RRULE:FREQ=YEARLY;BYMONTH=1
TZNAME:JST
TZOFFSETFROM:+0900
TZOFFSETTO:+0900
END:STANDARD
END:VTIMEZONE
BEGIN:VEVENT
UID:pretix-jsconfjp-2024-0@pretix.eu
DTSTART;TZID=Asia/Tokyo:20241011T000000
DTEND;TZID=Asia/Tokyo:20241123T170000
DESCRIPTION:Tickets: https://pretix.eu/jsconfjp/2024/\nOrganizer: Japan Nod
 e.js Association
DTSTAMP:20260424T072258Z
LOCATION:Kudanzakaue KS Building\, 1-14-6 Kudankita\, Chiyoda-ku\, Tokyo.
SUMMARY:JSConf.jp 2024
END:VEVENT
END:VCALENDAR
