BEGIN:VCALENDAR
VERSION:2.0
PRODID:-//pretix//pretix.eu//
BEGIN:VTIMEZONE
TZID:Europe/Berlin
BEGIN:STANDARD
DTSTART:20001029T040000
RRULE:FREQ=YEARLY;BYDAY=-1SU;BYMONTH=10
TZNAME:CET
TZOFFSETFROM:+0200
TZOFFSETTO:+0100
END:STANDARD
BEGIN:DAYLIGHT
DTSTART:20000326T030000
RRULE:FREQ=YEARLY;BYDAY=-1SU;BYMONTH=3
TZNAME:CEST
TZOFFSETFROM:+0100
TZOFFSETTO:+0200
END:DAYLIGHT
END:VTIMEZONE
BEGIN:VEVENT
UID:pretix-jtb-IKNL2026-4717410@pretix.eu
DTSTART;TZID=Europe/Berlin:20260122T110000
DTEND;TZID=Europe/Berlin:20260122T114000
DESCRIPTION:Tickets: https://pretix.eu/jtb/IKNL2026/4717410/\nVeranstalter:
  Junges Tanzhaus Berlin
DTSTAMP:20260421T113307Z
LOCATION:Junges Tanzhaus Berlin\, Lucy-Lameck-Str. 32\, 12049 Berlin
SUMMARY:Ich kann's nicht lassen
END:VEVENT
END:VCALENDAR
