BEGIN:VCALENDAR
VERSION:2.0
PRODID:-//pretix//pretix.eu//
BEGIN:VTIMEZONE
TZID:Europe/Berlin
BEGIN:STANDARD
DTSTART:20001029T040000
RRULE:FREQ=YEARLY;BYDAY=-1SU;BYMONTH=10
TZNAME:CET
TZOFFSETFROM:+0200
TZOFFSETTO:+0100
END:STANDARD
BEGIN:DAYLIGHT
DTSTART:20000326T030000
RRULE:FREQ=YEARLY;BYDAY=-1SU;BYMONTH=3
TZNAME:CEST
TZOFFSETFROM:+0100
TZOFFSETTO:+0200
END:DAYLIGHT
END:VTIMEZONE
BEGIN:VEVENT
UID:pretix-jvnup-festival2023-0@pretix.eu
DTSTART;TZID=Europe/Berlin:20230307T200000
DTEND;TZID=Europe/Berlin:20230307T235959
DESCRIPTION:Tickets: https://pretix.eu/jvnup/festival2023/\nEinlass: 07.03.
 2023 19:00\nVeranstalter: Jenseits von Nelken und Pralinen
DTSTAMP:20260424T114915Z
LOCATION:Gretchen\, Obentrautstraße 19-21\, 10963 Berlin
SUMMARY:Jenseits von Nelken und Pralinen Festival 2023
END:VEVENT
END:VCALENDAR
