BEGIN:VCALENDAR
VERSION:2.0
PRODID:-//pretix//pretix.eu//
BEGIN:VTIMEZONE
TZID:Europe/Berlin
BEGIN:STANDARD
DTSTART:20001029T040000
RRULE:FREQ=YEARLY;BYDAY=-1SU;BYMONTH=10
TZNAME:CET
TZOFFSETFROM:+0200
TZOFFSETTO:+0100
END:STANDARD
BEGIN:DAYLIGHT
DTSTART:20000326T030000
RRULE:FREQ=YEARLY;BYDAY=-1SU;BYMONTH=3
TZNAME:CEST
TZOFFSETFROM:+0100
TZOFFSETTO:+0200
END:DAYLIGHT
END:VTIMEZONE
BEGIN:VEVENT
UID:pretix-kab-bamberg-2024-02-122-0@pretix.eu
DTSTART;TZID=Europe/Berlin:20240226T173000
DTEND;TZID=Europe/Berlin:20240226T203000
DESCRIPTION:Tickets: https://pretix.eu/kab-bamberg/2024-02-122/\nVeranstalt
 er: Kab Bamberg
DTSTAMP:20260425T193843Z
LOCATION:Oertelscheune\, Pfarrberg 1\, 91332 Heiligenstadt i.Ofr.\, 3 Abend
 e à 3 Stunden: 26.02.\, 04.03.\, 11.03.2024\, 17:30 - 20:30 Uhr\, Teilnah
 me: KAB-Mitglieder kostenfrei\, Nicht-Mitglieder 50\,00 Euro.
SUMMARY:Smartphone-Kurs 60+
END:VEVENT
END:VCALENDAR
