BEGIN:VCALENDAR
VERSION:2.0
PRODID:-//pretix//pretix.eu//
BEGIN:VTIMEZONE
TZID:Europe/Berlin
BEGIN:STANDARD
DTSTART:20001029T040000
RRULE:FREQ=YEARLY;BYDAY=-1SU;BYMONTH=10
TZNAME:CET
TZOFFSETFROM:+0200
TZOFFSETTO:+0100
END:STANDARD
BEGIN:DAYLIGHT
DTSTART:20000326T030000
RRULE:FREQ=YEARLY;BYDAY=-1SU;BYMONTH=3
TZNAME:CEST
TZOFFSETFROM:+0100
TZOFFSETTO:+0200
END:DAYLIGHT
END:VTIMEZONE
BEGIN:VEVENT
UID:pretix-kab-bamberg-2024-04-132-0@pretix.eu
DTSTART;TZID=Europe/Berlin:20241126T190000
DTEND;TZID=Europe/Berlin:20241126T203000
DESCRIPTION:Tickets: https://pretix.eu/kab-bamberg/2024-04-132/\nVeranstalt
 er: Kab Bamberg
DTSTAMP:20260421T195329Z
LOCATION:Online per Zoom: Die Zugangsdaten erhalten Sie per E-Mail direkt n
 ach Ihrer Anmeldung automatisch von unserem System.
SUMMARY:Wie wir die Welt sehen: Was negative Nachrichten mit unserem Weltbi
 ld machen und wie wir uns davon befreien
END:VEVENT
END:VCALENDAR
