BEGIN:VCALENDAR
VERSION:2.0
PRODID:-//pretix//pretix.eu//
BEGIN:VTIMEZONE
TZID:Europe/Berlin
BEGIN:STANDARD
DTSTART:20001029T040000
RRULE:FREQ=YEARLY;BYDAY=-1SU;BYMONTH=10
TZNAME:CET
TZOFFSETFROM:+0200
TZOFFSETTO:+0100
END:STANDARD
BEGIN:DAYLIGHT
DTSTART:20000326T030000
RRULE:FREQ=YEARLY;BYDAY=-1SU;BYMONTH=3
TZNAME:CEST
TZOFFSETFROM:+0100
TZOFFSETTO:+0200
END:DAYLIGHT
END:VTIMEZONE
BEGIN:VEVENT
UID:pretix-kab-bamberg-2025-02-154-0@pretix.eu
DTSTART;TZID=Europe/Berlin:20250217T170000
DTEND;TZID=Europe/Berlin:20250217T200000
DESCRIPTION:Tickets: https://pretix.eu/kab-bamberg/2025-02-154/\nVeranstalt
 er: Kab Bamberg
DTSTAMP:20260420T141104Z
LOCATION:Tagungsraum KAB Bamberg\, Ludwigstr. 25\, 96052 Bamberg\, Weitere 
 Termine:  24.02.\, 10.03.\, 17.03.\, 24.03.2025 immer montags\, 17:00 - 20
 :00 Uhr\, KAB Tagungsraum
SUMMARY:Smart-Surfer: Fit im digitalen Alltag
END:VEVENT
END:VCALENDAR
