BEGIN:VCALENDAR
VERSION:2.0
PRODID:-//pretix//pretix.eu//
BEGIN:VTIMEZONE
TZID:Europe/Berlin
BEGIN:STANDARD
DTSTART:20001029T040000
RRULE:FREQ=YEARLY;BYDAY=-1SU;BYMONTH=10
TZNAME:CET
TZOFFSETFROM:+0200
TZOFFSETTO:+0100
END:STANDARD
BEGIN:DAYLIGHT
DTSTART:20000326T030000
RRULE:FREQ=YEARLY;BYDAY=-1SU;BYMONTH=3
TZNAME:CEST
TZOFFSETFROM:+0100
TZOFFSETTO:+0200
END:DAYLIGHT
END:VTIMEZONE
BEGIN:VEVENT
UID:pretix-kab-bamberg-2026-01-294-0@pretix.eu
DTSTART;TZID=Europe/Berlin:20260310T150000
DTEND;TZID=Europe/Berlin:20260313T130000
DESCRIPTION:Tickets: https://pretix.eu/kab-bamberg/2026-01-294/\nVeranstalt
 er: Kab Bamberg
DTSTAMP:20260419T135749Z
LOCATION:Haus Frankenthal in Vierzehnheiligen\,\, Vierzehnheiligen 9\, 9623
 1 Bad Staffelstein
SUMMARY:Credo - ich glaube! Religiöse Bildungstage in Vierzehnheiligen.
END:VEVENT
END:VCALENDAR
