BEGIN:VCALENDAR
VERSION:2.0
PRODID:-//pretix//pretix.eu//
BEGIN:VTIMEZONE
TZID:Europe/Berlin
BEGIN:STANDARD
DTSTART:20001029T040000
RRULE:FREQ=YEARLY;BYDAY=-1SU;BYMONTH=10
TZNAME:CET
TZOFFSETFROM:+0200
TZOFFSETTO:+0100
END:STANDARD
BEGIN:DAYLIGHT
DTSTART:20000326T030000
RRULE:FREQ=YEARLY;BYDAY=-1SU;BYMONTH=3
TZNAME:CEST
TZOFFSETFROM:+0100
TZOFFSETTO:+0200
END:DAYLIGHT
END:VTIMEZONE
BEGIN:VEVENT
UID:pretix-kab-bamberg-2026-01-310-0@pretix.eu
DTSTART;TZID=Europe/Berlin:20260513T180000
DTEND;TZID=Europe/Berlin:20260513T190000
DESCRIPTION:Tickets: https://pretix.eu/kab-bamberg/2026-01-310/\nVeranstalt
 er: Kab Bamberg
DTSTAMP:20260422T085535Z
LOCATION:Online
SUMMARY:KI & Gesellschaft 2: KI & Diskriminierung - Fake News & Hate Speech
END:VEVENT
END:VCALENDAR
