BEGIN:VCALENDAR
VERSION:2.0
PRODID:-//pretix//pretix.eu//
BEGIN:VTIMEZONE
TZID:Europe/Berlin
BEGIN:STANDARD
DTSTART:20001029T040000
RRULE:FREQ=YEARLY;BYDAY=-1SU;BYMONTH=10
TZNAME:CET
TZOFFSETFROM:+0200
TZOFFSETTO:+0100
END:STANDARD
BEGIN:DAYLIGHT
DTSTART:20000326T030000
RRULE:FREQ=YEARLY;BYDAY=-1SU;BYMONTH=3
TZNAME:CEST
TZOFFSETFROM:+0100
TZOFFSETTO:+0200
END:DAYLIGHT
END:VTIMEZONE
BEGIN:VEVENT
UID:pretix-kab-bamberg-2026-02-218-0@pretix.eu
DTSTART;TZID=Europe/Berlin:20260608T173000
DTEND;TZID=Europe/Berlin:20260622T203030
DESCRIPTION:Tickets: https://pretix.eu/kab-bamberg/2026-02-218/\nVeranstalt
 er: Kab Bamberg
DTSTAMP:20260420T121525Z
LOCATION:Bistumshaus St.Otto\, Heinrichsdamm 32\, 96047 Bamberg
SUMMARY:Digitale Helfer im Alltag – Technik verstehen und nutzen bei begi
 nnender Demenz
END:VEVENT
END:VCALENDAR
