BEGIN:VCALENDAR
VERSION:2.0
PRODID:-//pretix//pretix.eu//
BEGIN:VTIMEZONE
TZID:Europe/Berlin
BEGIN:STANDARD
DTSTART:20001029T040000
RRULE:FREQ=YEARLY;BYDAY=-1SU;BYMONTH=10
TZNAME:CET
TZOFFSETFROM:+0200
TZOFFSETTO:+0100
END:STANDARD
BEGIN:DAYLIGHT
DTSTART:20000326T030000
RRULE:FREQ=YEARLY;BYDAY=-1SU;BYMONTH=3
TZNAME:CEST
TZOFFSETFROM:+0100
TZOFFSETTO:+0200
END:DAYLIGHT
END:VTIMEZONE
BEGIN:VEVENT
UID:pretix-kab-bamberg-BW2022918-0@pretix.eu
DTSTART;TZID=Europe/Berlin:20220624T170000
DTEND;TZID=Europe/Berlin:20220624T190000
DESCRIPTION:Tickets: https://pretix.eu/kab-bamberg/BW2022918/\nVeranstalter
 : Kab Bamberg
DTSTAMP:20260421T164310Z
LOCATION:96135 Stegaurach\, Richtung Hartlanden\, Treffpunkt: Am Wendepunkt
  an der 2. Station des Themenweges\, s. Skizze Ausschreibung Rückseite
SUMMARY:Themenweg Artenvielfalt will zum Handeln anregen
END:VEVENT
END:VCALENDAR
