BEGIN:VCALENDAR
VERSION:2.0
PRODID:-//pretix//pretix.eu//
BEGIN:VTIMEZONE
TZID:Europe/Berlin
BEGIN:STANDARD
DTSTART:20001029T040000
RRULE:FREQ=YEARLY;BYDAY=-1SU;BYMONTH=10
TZNAME:CET
TZOFFSETFROM:+0200
TZOFFSETTO:+0100
END:STANDARD
BEGIN:DAYLIGHT
DTSTART:20000326T030000
RRULE:FREQ=YEARLY;BYDAY=-1SU;BYMONTH=3
TZNAME:CEST
TZOFFSETFROM:+0100
TZOFFSETTO:+0200
END:DAYLIGHT
END:VTIMEZONE
BEGIN:VEVENT
UID:pretix-kaiser-events-IDOA-WU-0@pretix.eu
DTSTART;TZID=Europe/Berlin:20260411T190000
DTEND;TZID=Europe/Berlin:20260412T020000
DESCRIPTION:Tickets: https://pretix.eu/kaiser-events/IDOA-WU/\nVeranstalter
 : Gasthaus Deutscher Kaiser
DTSTAMP:20260424T141234Z
LOCATION:Hauptstraße 1\, 37412 Herzberg am Harz
SUMMARY:Iron Doghead O:A Warm up
END:VEVENT
END:VCALENDAR
