BEGIN:VCALENDAR
VERSION:2.0
PRODID:-//pretix//pretix.eu//
BEGIN:VTIMEZONE
TZID:Europe/Berlin
BEGIN:STANDARD
DTSTART:20001029T040000
RRULE:FREQ=YEARLY;BYDAY=-1SU;BYMONTH=10
TZNAME:CET
TZOFFSETFROM:+0200
TZOFFSETTO:+0100
END:STANDARD
BEGIN:DAYLIGHT
DTSTART:20000326T030000
RRULE:FREQ=YEARLY;BYDAY=-1SU;BYMONTH=3
TZNAME:CEST
TZOFFSETFROM:+0100
TZOFFSETTO:+0200
END:DAYLIGHT
END:VTIMEZONE
BEGIN:VEVENT
UID:pretix-kaiser-events-MM-0@pretix.eu
DTSTART;TZID=Europe/Berlin:20260425T200000
DTEND;TZID=Europe/Berlin:20260426T015959
DESCRIPTION:Tickets: https://pretix.eu/kaiser-events/MM/\nVeranstalter: Gas
 thaus Deutscher Kaiser
DTSTAMP:20260424T141237Z
LOCATION:Herzberg am Harz\,\, Hauptstraße 1
SUMMARY:Flashback Fever - Millennial Mania
END:VEVENT
END:VCALENDAR
