BEGIN:VCALENDAR
VERSION:2.0
PRODID:-//pretix//pretix.eu//
BEGIN:VTIMEZONE
TZID:Europe/Berlin
BEGIN:STANDARD
DTSTART:20001029T040000
RRULE:FREQ=YEARLY;BYDAY=-1SU;BYMONTH=10
TZNAME:CET
TZOFFSETFROM:+0200
TZOFFSETTO:+0100
END:STANDARD
BEGIN:DAYLIGHT
DTSTART:20000326T030000
RRULE:FREQ=YEARLY;BYDAY=-1SU;BYMONTH=3
TZNAME:CEST
TZOFFSETFROM:+0100
TZOFFSETTO:+0200
END:DAYLIGHT
END:VTIMEZONE
BEGIN:VEVENT
UID:pretix-kammerchor-bruchsal-lieben-0@pretix.eu
DTSTART;TZID=Europe/Berlin:20260510T180000
DTEND;TZID=Europe/Berlin:20260510T193000
DESCRIPTION:Tickets: https://pretix.eu/kammerchor-bruchsal/lieben/\nEinlass
 : 10.05.2026 17:15\nVeranstalter: Kammerchor Bruchsal
DTSTAMP:20260421T182001Z
LOCATION:Kammermusiksaal Schloss Bruchsal
SUMMARY:Das Lieben bringt groß Freud
END:VEVENT
END:VCALENDAR
