BEGIN:VCALENDAR
VERSION:2.0
PRODID:-//pretix//pretix.eu//
BEGIN:VTIMEZONE
TZID:Europe/Berlin
BEGIN:STANDARD
DTSTART:20001029T040000
RRULE:FREQ=YEARLY;BYDAY=-1SU;BYMONTH=10
TZNAME:CET
TZOFFSETFROM:+0200
TZOFFSETTO:+0100
END:STANDARD
BEGIN:DAYLIGHT
DTSTART:20000326T030000
RRULE:FREQ=YEARLY;BYDAY=-1SU;BYMONTH=3
TZNAME:CEST
TZOFFSETFROM:+0100
TZOFFSETTO:+0200
END:DAYLIGHT
END:VTIMEZONE
BEGIN:VEVENT
UID:pretix-kck-dvorak25hornberg-0@pretix.eu
DTSTART;TZID=Europe/Berlin:20250405T190000
DTEND;TZID=Europe/Berlin:20250405T200000
DESCRIPTION:Tickets: https://pretix.eu/kck/dvorak25hornberg/\nVeranstalter:
  KammerChor Kinzigtal
DTSTAMP:20260422T045517Z
LOCATION:Kath. Kirche St. Johannes der Täufer\, Reichenbacher Straße\, 78
 132 Hornberg
SUMMARY:Anontín Dvořák: Stabat Mater
END:VEVENT
END:VCALENDAR
