BEGIN:VCALENDAR
VERSION:2.0
PRODID:-//pretix//pretix.eu//
BEGIN:VTIMEZONE
TZID:Europe/Berlin
BEGIN:STANDARD
DTSTART:20001029T040000
RRULE:FREQ=YEARLY;BYDAY=-1SU;BYMONTH=10
TZNAME:CET
TZOFFSETFROM:+0200
TZOFFSETTO:+0100
END:STANDARD
BEGIN:DAYLIGHT
DTSTART:20000326T030000
RRULE:FREQ=YEARLY;BYDAY=-1SU;BYMONTH=3
TZNAME:CEST
TZOFFSETFROM:+0100
TZOFFSETTO:+0200
END:DAYLIGHT
END:VTIMEZONE
BEGIN:VEVENT
UID:pretix-kck-dvorak25zell-0@pretix.eu
DTSTART;TZID=Europe/Berlin:20250406T170000
DTEND;TZID=Europe/Berlin:20250406T180000
DESCRIPTION:Tickets: https://pretix.eu/kck/dvorak25zell/\nVeranstalter: Kam
 merChor Kinzigtal
DTSTAMP:20260422T045552Z
LOCATION:Kath. Pfarrkirche Zell am Harmersbach\, Kirchstr. 13\, 77736 Zell 
 am Harmersbach
SUMMARY:Anontín Dvořák: Stabat Mater
END:VEVENT
END:VCALENDAR
