BEGIN:VCALENDAR
VERSION:2.0
PRODID:-//pretix//pretix.eu//
BEGIN:VTIMEZONE
TZID:Europe/Berlin
BEGIN:STANDARD
DTSTART:20001029T040000
RRULE:FREQ=YEARLY;BYDAY=-1SU;BYMONTH=10
TZNAME:CET
TZOFFSETFROM:+0200
TZOFFSETTO:+0100
END:STANDARD
BEGIN:DAYLIGHT
DTSTART:20000326T030000
RRULE:FREQ=YEARLY;BYDAY=-1SU;BYMONTH=3
TZNAME:CEST
TZOFFSETFROM:+0100
TZOFFSETTO:+0200
END:DAYLIGHT
END:VTIMEZONE
BEGIN:VEVENT
UID:pretix-kglist-eis2-0@pretix.eu
DTSTART;TZID=Europe/Berlin:20260117T110000
DTEND;TZID=Europe/Berlin:20260117T120000
DESCRIPTION:Tickets: https://pretix.eu/kglist/eis2/\nEinlass: 17.01.2026 10
 :45\nVeranstalter: Kanu-Gemeinschaft List
DTSTAMP:20260422T083922Z
LOCATION:Kanu-Gemeinschaft List\, Lister Damm 67\, 30163 Hannover
SUMMARY:2. Lister Eiskanalfahrt
END:VEVENT
END:VCALENDAR
