BEGIN:VCALENDAR
VERSION:2.0
PRODID:-//pretix//pretix.eu//
BEGIN:VTIMEZONE
TZID:Europe/Berlin
BEGIN:STANDARD
DTSTART:20001029T040000
RRULE:FREQ=YEARLY;BYDAY=-1SU;BYMONTH=10
TZNAME:CET
TZOFFSETFROM:+0200
TZOFFSETTO:+0100
END:STANDARD
BEGIN:DAYLIGHT
DTSTART:20000326T030000
RRULE:FREQ=YEARLY;BYDAY=-1SU;BYMONTH=3
TZNAME:CEST
TZOFFSETFROM:+0100
TZOFFSETTO:+0200
END:DAYLIGHT
END:VTIMEZONE
BEGIN:VEVENT
UID:pretix-kh-contemp-2-0@pretix.eu
DTSTART;TZID=Europe/Berlin:20260425T103000
DTEND;TZID=Europe/Berlin:20260425T120000
DESCRIPTION:Tickets: https://pretix.eu/kh/contemp-2/\nVeranstalter: KIESECK
 ER | HOESS
DTSTAMP:20260425T003029Z
LOCATION:TanzAreal Karlsruhe\, Hardtstraße 37a\, 76185 Karlsruhe
SUMMARY:K | H Contemporary Class
END:VEVENT
END:VCALENDAR
