BEGIN:VCALENDAR
VERSION:2.0
PRODID:-//pretix//pretix.eu//
BEGIN:VTIMEZONE
TZID:Europe/Berlin
BEGIN:STANDARD
DTSTART:20001029T040000
RRULE:FREQ=YEARLY;BYDAY=-1SU;BYMONTH=10
TZNAME:CET
TZOFFSETFROM:+0200
TZOFFSETTO:+0100
END:STANDARD
BEGIN:DAYLIGHT
DTSTART:20000326T030000
RRULE:FREQ=YEARLY;BYDAY=-1SU;BYMONTH=3
TZNAME:CEST
TZOFFSETFROM:+0100
TZOFFSETTO:+0200
END:DAYLIGHT
END:VTIMEZONE
BEGIN:VEVENT
UID:pretix-kh-kh2-2-0@pretix.eu
DTSTART;TZID=Europe/Berlin:20260415T181500
DTEND;TZID=Europe/Berlin:20260415T194500
DESCRIPTION:Tickets: https://pretix.eu/kh/kh2-2/\nOrganizer: KIESECKER | H
 OESS
DTSTAMP:20260424T194124Z
LOCATION:TanzAreal Karlsruhe\, Hardtstraße 37a\, 76185 Karlsruhe
SUMMARY:KH2
END:VEVENT
BEGIN:VEVENT
UID:pretix-kh-floor-2-0@pretix.eu
DTSTART;TZID=Europe/Berlin:20260415T200000
DTEND;TZID=Europe/Berlin:20260415T211500
DESCRIPTION:Tickets: https://pretix.eu/kh/floor-2/\nOrganizer: KIESECKER |
  HOESS
DTSTAMP:20260424T194124Z
LOCATION:TanzAreal Karlsruhe e.V. Hardtstraße 37a\, 76185 Karlsruhe
SUMMARY:Floor Class
END:VEVENT
BEGIN:VEVENT
UID:pretix-kh-contemp-0@pretix.eu
DTSTART;TZID=Europe/Berlin:20260418T103000
DTEND;TZID=Europe/Berlin:20260418T120000
DESCRIPTION:Tickets: https://pretix.eu/kh/contemp/\nOrganizer: KIESECKER |
  HOESS
DTSTAMP:20260424T194124Z
LOCATION:TanzAreal Karlsruhe\, Hardtstraße 37a\, 76185 Karlsruhe
SUMMARY:K | H Contemporary Class
END:VEVENT
BEGIN:VEVENT
UID:pretix-kh-kh2-3-0@pretix.eu
DTSTART;TZID=Europe/Berlin:20260422T181500
DTEND;TZID=Europe/Berlin:20260422T194500
DESCRIPTION:Tickets: https://pretix.eu/kh/kh2-3/\nOrganizer: KIESECKER | H
 OESS
DTSTAMP:20260424T194124Z
LOCATION:TanzAreal Karlsruhe\, Hardtstraße 37a\, 76185 Karlsruhe
SUMMARY:KH2
END:VEVENT
BEGIN:VEVENT
UID:pretix-kh-floor-3-0@pretix.eu
DTSTART;TZID=Europe/Berlin:20260422T200000
DTEND;TZID=Europe/Berlin:20260422T211500
DESCRIPTION:Tickets: https://pretix.eu/kh/floor-3/\nOrganizer: KIESECKER |
  HOESS
DTSTAMP:20260424T194124Z
LOCATION:TanzAreal Karlsruhe e.V. Hardtstraße 37a\, 76185 Karlsruhe
SUMMARY:Floor Class
END:VEVENT
BEGIN:VEVENT
UID:pretix-kh-contemp-2-0@pretix.eu
DTSTART;TZID=Europe/Berlin:20260425T103000
DTEND;TZID=Europe/Berlin:20260425T120000
DESCRIPTION:Tickets: https://pretix.eu/kh/contemp-2/\nOrganizer: KIESECKER 
 | HOESS
DTSTAMP:20260424T194124Z
LOCATION:TanzAreal Karlsruhe\, Hardtstraße 37a\, 76185 Karlsruhe
SUMMARY:K | H Contemporary Class
END:VEVENT
BEGIN:VEVENT
UID:pretix-kh-intensive-0@pretix.eu
DTSTART;TZID=Europe/Berlin:20260605T110000
DTEND;TZID=Europe/Berlin:20260607T153000
DESCRIPTION:Tickets: https://pretix.eu/kh/intensive/\nOrganizer: KIESECKER 
 | HOESS
DTSTAMP:20260424T194124Z
LOCATION:TanzAreal Karlsruhe
SUMMARY:K | H INTENSIVE 2026
END:VEVENT
END:VCALENDAR
