BEGIN:VCALENDAR
VERSION:2.0
PRODID:-//pretix//pretix.eu//
BEGIN:VTIMEZONE
TZID:Asia/Shanghai
BEGIN:STANDARD
DTSTART:20000101T000000
RRULE:FREQ=YEARLY;BYMONTH=1
TZNAME:CST
TZOFFSETFROM:+0800
TZOFFSETTO:+0800
END:STANDARD
END:VTIMEZONE
BEGIN:VEVENT
UID:pretix-kicad-kiconasia2025-0@pretix.eu
DTSTART;TZID=Asia/Shanghai:20251113T090000
DTEND;TZID=Asia/Shanghai:20251115T170000
DESCRIPTION:门票：https://pretix.eu/kicad/kiconasia2025/\n入场：2025
 年11月13日 09:00\n组织者：KiCad
DTSTAMP:20260419T204054Z
LOCATION:深圳，中国
SUMMARY:KiCon Asia 2025
END:VEVENT
END:VCALENDAR
