BEGIN:VCALENDAR
VERSION:2.0
PRODID:-//pretix//pretix.eu//
BEGIN:VTIMEZONE
TZID:Europe/Berlin
BEGIN:STANDARD
DTSTART:20001029T040000
RRULE:FREQ=YEARLY;BYDAY=-1SU;BYMONTH=10
TZNAME:CET
TZOFFSETFROM:+0200
TZOFFSETTO:+0100
END:STANDARD
BEGIN:DAYLIGHT
DTSTART:20000326T030000
RRULE:FREQ=YEARLY;BYDAY=-1SU;BYMONTH=3
TZNAME:CEST
TZOFFSETFROM:+0100
TZOFFSETTO:+0200
END:DAYLIGHT
END:VTIMEZONE
BEGIN:VEVENT
UID:pretix-kicad-kiconeurope2025-0@pretix.eu
DTSTART;TZID=Europe/Berlin:20250910T090000
DTEND;TZID=Europe/Berlin:20250912T170000
DESCRIPTION:Tickets: https://pretix.eu/kicad/kiconeurope2025/\nOrganizer: K
 iCad
DTSTAMP:20260419T153017Z
LOCATION:Ruhr Universität Bochum
SUMMARY:KiCon Europe 2025
END:VEVENT
END:VCALENDAR
