BEGIN:VCALENDAR
VERSION:2.0
PRODID:-//pretix//pretix.eu//
BEGIN:VTIMEZONE
TZID:Europe/Berlin
BEGIN:STANDARD
DTSTART:20001029T040000
RRULE:FREQ=YEARLY;BYDAY=-1SU;BYMONTH=10
TZNAME:CET
TZOFFSETFROM:+0200
TZOFFSETTO:+0100
END:STANDARD
BEGIN:DAYLIGHT
DTSTART:20000326T030000
RRULE:FREQ=YEARLY;BYDAY=-1SU;BYMONTH=3
TZNAME:CEST
TZOFFSETFROM:+0100
TZOFFSETTO:+0200
END:DAYLIGHT
END:VTIMEZONE
BEGIN:VEVENT
UID:pretix-killerz-23-0@pretix.eu
DTSTART;TZID=Europe/Berlin:20230929T160000
DTEND;TZID=Europe/Berlin:20230930T235959
DESCRIPTION:Tickets: https://pretix.eu/killerz/23/\nAdmission: 2023-09-29 1
 6:00\nOrganizer: Mead & Greed UG (haftungsbeschränkt)
DTSTAMP:20260419T224710Z
LOCATION:Resonanzwerk Oberhausen\, Germany
SUMMARY:KillerZ Festival 2023
END:VEVENT
END:VCALENDAR
