BEGIN:VCALENDAR
VERSION:2.0
PRODID:-//pretix//pretix.eu//
BEGIN:VEVENT
UID:pretix-klamottenliebe-standplatz-0@pretix.eu
DTSTART;VALUE=DATE:20260503
DTEND;VALUE=DATE:20260504
DESCRIPTION:Tickets: https://pretix.eu/klamottenliebe/standplatz/\nVeransta
 lter: Klamottenliebe
DTSTAMP:20260420T061941Z
LOCATION:Festhalle Oberbruch\, Carl-Diem-Str. 6\, 52525 Heinsberg
SUMMARY:STANDPLATZ HEINSBERG
END:VEVENT
BEGIN:VEVENT
UID:pretix-klamottenliebe-ticketshop-0@pretix.eu
DTSTART;VALUE=DATE:20260503
DTEND;VALUE=DATE:20260504
DESCRIPTION:Tickets: https://pretix.eu/klamottenliebe/ticketshop/\nVeransta
 lter: Klamottenliebe
DTSTAMP:20260420T061941Z
LOCATION:Festhalle Oberbruch\, Carl-Diem-Str. 6\, 52525 Heinsberg
SUMMARY:E-TICKET HEINSBERG
END:VEVENT
BEGIN:VEVENT
UID:pretix-klamottenliebe-kinderflohmarkt-0@pretix.eu
DTSTART;VALUE=DATE:20260705
DTEND;VALUE=DATE:20260706
DESCRIPTION:Tickets: https://pretix.eu/klamottenliebe/kinderflohmarkt/\nVer
 anstalter: Klamottenliebe
DTSTAMP:20260420T061941Z
LOCATION:Festhalle Oberbruch\, Carl-Diem-Str. 6\, 52525 Heinsberg
SUMMARY:STANDPLATZBUCHUNG KINDERFLOHMARKT HEINSBERG
END:VEVENT
END:VCALENDAR
