BEGIN:VCALENDAR
VERSION:2.0
PRODID:-//pretix//pretix.eu//
BEGIN:VTIMEZONE
TZID:Europe/Berlin
BEGIN:STANDARD
DTSTART:20001029T040000
RRULE:FREQ=YEARLY;BYDAY=-1SU;BYMONTH=10
TZNAME:CET
TZOFFSETFROM:+0200
TZOFFSETTO:+0100
END:STANDARD
BEGIN:DAYLIGHT
DTSTART:20000326T030000
RRULE:FREQ=YEARLY;BYDAY=-1SU;BYMONTH=3
TZNAME:CEST
TZOFFSETFROM:+0100
TZOFFSETTO:+0200
END:DAYLIGHT
END:VTIMEZONE
BEGIN:VEVENT
UID:pretix-kleinkunstbuehneilmenauroda-juliaalsheimer-0@pretix.eu
DTSTART;TZID=Europe/Berlin:20261017T200000
DTEND;TZID=Europe/Berlin:20261017T220000
DESCRIPTION:Tickets: https://pretix.eu/kleinkunstbuehneilmenauroda/juliaals
 heimer/\nVeranstalter: Rodaer Kleinkunstverein e.V.
DTSTAMP:20260423T023051Z
LOCATION:Kleinkunstbühne Ilmenau-Roda\, Elgersburger Str. 49\, 98693 Ilmen
 au
SUMMARY:Comedy: "Sex ist mehr als nur ne‘ Nummer“ mit Julia Alsheimer
END:VEVENT
END:VCALENDAR
