BEGIN:VCALENDAR
VERSION:2.0
PRODID:-//pretix//pretix.eu//
BEGIN:VTIMEZONE
TZID:Europe/Berlin
BEGIN:STANDARD
DTSTART:20001029T040000
RRULE:FREQ=YEARLY;BYDAY=-1SU;BYMONTH=10
TZNAME:CET
TZOFFSETFROM:+0200
TZOFFSETTO:+0100
END:STANDARD
BEGIN:DAYLIGHT
DTSTART:20000326T030000
RRULE:FREQ=YEARLY;BYDAY=-1SU;BYMONTH=3
TZNAME:CEST
TZOFFSETFROM:+0100
TZOFFSETTO:+0200
END:DAYLIGHT
END:VTIMEZONE
BEGIN:VEVENT
UID:pretix-kleinkunstbuehneilmenauroda-lesung-0@pretix.eu
DTSTART;TZID=Europe/Berlin:20260418T200000
DTEND;TZID=Europe/Berlin:20260418T220000
DESCRIPTION:Tickets: https://pretix.eu/kleinkunstbuehneilmenauroda/lesung/\
 nVeranstalter: Rodaer Kleinkunstverein e.V.
DTSTAMP:20260423T074623Z
LOCATION:Kleinkunstbühne Ilmenau-Roda\, Elgersburger Str. 49\, 98693
SUMMARY:Lesung: "S€X meets Wissenschaft“ von Sexualwissenschaftlerin\, 
 Buchautorin und Speakerin Susanne Wendel
END:VEVENT
END:VCALENDAR
