BEGIN:VCALENDAR
VERSION:2.0
PRODID:-//pretix//pretix.eu//
BEGIN:VEVENT
UID:pretix-klmnuernberg-70jahre-0@pretix.eu
DTSTART;VALUE=DATE:20260514
DTEND;VALUE=DATE:20260517
DESCRIPTION:Tickets: https://pretix.eu/klmnuernberg/70jahre/\nVeranstalter:
  Klub Langer Menschen e.V. Bezirk Nürnberg
DTSTAMP:20260421T122431Z
SUMMARY:70 Jahre KLM Nürnberg
END:VEVENT
END:VCALENDAR
