BEGIN:VCALENDAR
VERSION:2.0
PRODID:-//pretix//pretix.eu//
BEGIN:VTIMEZONE
TZID:Europe/Berlin
BEGIN:STANDARD
DTSTART:20001029T040000
RRULE:FREQ=YEARLY;BYDAY=-1SU;BYMONTH=10
TZNAME:CET
TZOFFSETFROM:+0200
TZOFFSETTO:+0100
END:STANDARD
BEGIN:DAYLIGHT
DTSTART:20000326T030000
RRULE:FREQ=YEARLY;BYDAY=-1SU;BYMONTH=3
TZNAME:CEST
TZOFFSETFROM:+0100
TZOFFSETTO:+0200
END:DAYLIGHT
END:VTIMEZONE
BEGIN:VEVENT
UID:pretix-kneipenkrimi.de-hjmnz-0@pretix.eu
DTSTART;TZID=Europe/Berlin:20260329T180000
DTEND;TZID=Europe/Berlin:20260329T190000
DESCRIPTION:Tickets: https://pretix.eu/kneipenkrimi.de/hjmnz/\nEinlass: 29.
 03.2026 17:30\nVeranstalter: Ticketshop
DTSTAMP:20260421T182147Z
LOCATION:Bahnhofstraße 5\, 33824 Werther
SUMMARY:Das tödliche Rezept - Dicke Dornberg Werther\, Bahnhofstraße 5\, 
 33824 Werther
END:VEVENT
END:VCALENDAR
