BEGIN:VCALENDAR
VERSION:2.0
PRODID:-//pretix//pretix.eu//
BEGIN:VTIMEZONE
TZID:Europe/Berlin
BEGIN:STANDARD
DTSTART:20001029T040000
RRULE:FREQ=YEARLY;BYDAY=-1SU;BYMONTH=10
TZNAME:CET
TZOFFSETFROM:+0200
TZOFFSETTO:+0100
END:STANDARD
BEGIN:DAYLIGHT
DTSTART:20000326T030000
RRULE:FREQ=YEARLY;BYDAY=-1SU;BYMONTH=3
TZNAME:CEST
TZOFFSETFROM:+0100
TZOFFSETTO:+0200
END:DAYLIGHT
END:VTIMEZONE
BEGIN:VEVENT
UID:pretix-knieforum-muensterland-0@pretix.eu
DTSTART;TZID=Europe/Berlin:20251201T180000
DTEND;TZID=Europe/Berlin:20251201T220000
DESCRIPTION:Tickets: https://pretix.eu/knieforum/muensterland/\nEinlass: 01
 .12.2025 17:30\nVeranstalter: Knieforum Münsterland
DTSTAMP:20260419T151348Z
LOCATION:Atlantic Hotel\, Münster\, Räume Unique 1 und 2\, Engelstraße 3
 9\, 48143 Münster
SUMMARY:Knieforum Münsterland
END:VEVENT
END:VCALENDAR
