BEGIN:VCALENDAR
VERSION:2.0
PRODID:-//pretix//pretix.eu//
BEGIN:VTIMEZONE
TZID:Europe/Berlin
BEGIN:STANDARD
DTSTART:20001029T040000
RRULE:FREQ=YEARLY;BYDAY=-1SU;BYMONTH=10
TZNAME:CET
TZOFFSETFROM:+0200
TZOFFSETTO:+0100
END:STANDARD
BEGIN:DAYLIGHT
DTSTART:20000326T030000
RRULE:FREQ=YEARLY;BYDAY=-1SU;BYMONTH=3
TZNAME:CEST
TZOFFSETFROM:+0100
TZOFFSETTO:+0200
END:DAYLIGHT
END:VTIMEZONE
BEGIN:VEVENT
UID:pretix-koehne-osc23-0@pretix.eu
DTSTART;TZID=Europe/Berlin:20230627T000000
DTEND;TZID=Europe/Berlin:20230629T180000
DESCRIPTION:Tickets: https://pretix.eu/koehne/osc23/\nOrganizer: köhne ver
 anstaltungen & technik
DTSTAMP:20260420T094028Z
SUMMARY:Open Science Conference 2023 Virtual Conference
END:VEVENT
END:VCALENDAR
