BEGIN:VCALENDAR
VERSION:2.0
PRODID:-//pretix//pretix.eu//
BEGIN:VTIMEZONE
TZID:Europe/Berlin
BEGIN:STANDARD
DTSTART:20001029T040000
RRULE:FREQ=YEARLY;BYDAY=-1SU;BYMONTH=10
TZNAME:CET
TZOFFSETFROM:+0200
TZOFFSETTO:+0100
END:STANDARD
BEGIN:DAYLIGHT
DTSTART:20000326T030000
RRULE:FREQ=YEARLY;BYDAY=-1SU;BYMONTH=3
TZNAME:CEST
TZOFFSETFROM:+0100
TZOFFSETTO:+0200
END:DAYLIGHT
END:VTIMEZONE
BEGIN:VEVENT
UID:pretix-koelner-freiwilligen-agentur-Aussengrenzen-0@pretix.eu
DTSTART;TZID=Europe/Berlin:20220625T103000
DTEND;TZID=Europe/Berlin:20220625T160000
DESCRIPTION:Tickets: https://pretix.eu/koelner-freiwilligen-agentur/Ausseng
 renzen/\nVeranstalter: Kölner Freiwilligen Agentur e.V.
DTSTAMP:20260425T161919Z
LOCATION:Bürgerzentrum Ehrenfeld\, Venloer Str. 429\, 50825 Köln
SUMMARY:Aus den Augen\, aus dem Sinn? - BarCamp für eine humane Flüchtlin
 gspolitik an den EU-Außengrenzen
END:VEVENT
END:VCALENDAR
