BEGIN:VCALENDAR
VERSION:2.0
PRODID:-//pretix//pretix.eu//
BEGIN:VTIMEZONE
TZID:Europe/Berlin
BEGIN:STANDARD
DTSTART:20001029T040000
RRULE:FREQ=YEARLY;BYDAY=-1SU;BYMONTH=10
TZNAME:CET
TZOFFSETFROM:+0200
TZOFFSETTO:+0100
END:STANDARD
BEGIN:DAYLIGHT
DTSTART:20000326T030000
RRULE:FREQ=YEARLY;BYDAY=-1SU;BYMONTH=3
TZNAME:CEST
TZOFFSETFROM:+0100
TZOFFSETTO:+0200
END:DAYLIGHT
END:VTIMEZONE
BEGIN:VEVENT
UID:pretix-kreativstart-ks2026-4843202@pretix.eu
DTSTART;TZID=Europe/Berlin:20260421T093000
DTEND;TZID=Europe/Berlin:20260421T173000
DESCRIPTION:Tickets: https://pretix.eu/kreativstart/ks2026/4843202/\nVerans
 talter: K3 Kultur- und Kreativwirtschaftsbüro der Stadt Karlsruhe
DTSTAMP:20260421T140140Z
LOCATION:Kulturzentrum Tollhaus Karlsruhe
SUMMARY:KreativStart Kongress 2026 - für Kreative\, Start-ups und Gründen
 de
END:VEVENT
END:VCALENDAR
