BEGIN:VCALENDAR
VERSION:2.0
PRODID:-//pretix//pretix.eu//
BEGIN:VTIMEZONE
TZID:Europe/Berlin
BEGIN:STANDARD
DTSTART:20001029T040000
RRULE:FREQ=YEARLY;BYDAY=-1SU;BYMONTH=10
TZNAME:CET
TZOFFSETFROM:+0200
TZOFFSETTO:+0100
END:STANDARD
BEGIN:DAYLIGHT
DTSTART:20000326T030000
RRULE:FREQ=YEARLY;BYDAY=-1SU;BYMONTH=3
TZNAME:CEST
TZOFFSETFROM:+0100
TZOFFSETTO:+0200
END:DAYLIGHT
END:VTIMEZONE
BEGIN:VEVENT
UID:pretix-krimidinnermallorca-MordMotor0326-3-0@pretix.eu
DTSTART;TZID=Europe/Berlin:20260306T190000
DTEND;TZID=Europe/Berlin:20260306T213000
DESCRIPTION:Tickets: https://pretix.eu/krimidinnermallorca/MordMotor0326-3/
 \nEinlass: 06.03.2026 18:30\nVeranstalter: Krimidinner Mallorca
DTSTAMP:20260422T195454Z
LOCATION:Motorworld Mallorca\, Cami Vell de Llucmajor\, 112\, 07007 Palma d
 e Mallorca
SUMMARY:Krimidinner Mallorca® "Mord in der Motorwold"
END:VEVENT
END:VCALENDAR
