BEGIN:VCALENDAR
VERSION:2.0
PRODID:-//pretix//pretix.eu//
BEGIN:VTIMEZONE
TZID:Europe/Berlin
BEGIN:STANDARD
DTSTART:20001029T040000
RRULE:FREQ=YEARLY;BYDAY=-1SU;BYMONTH=10
TZNAME:CET
TZOFFSETFROM:+0200
TZOFFSETTO:+0100
END:STANDARD
BEGIN:DAYLIGHT
DTSTART:20000326T030000
RRULE:FREQ=YEARLY;BYDAY=-1SU;BYMONTH=3
TZNAME:CEST
TZOFFSETFROM:+0100
TZOFFSETTO:+0200
END:DAYLIGHT
END:VTIMEZONE
BEGIN:VEVENT
UID:pretix-ktvadler-saison-2425-4189869@pretix.eu
DTSTART;TZID=Europe/Berlin:20241102T193000
DTEND;TZID=Europe/Berlin:20241102T203000
DESCRIPTION:Tickets: https://pretix.eu/ktvadler/saison-2425/4189869/\nEinla
 ss: 02.11.2024 18:00\nVeranstalter: Kieler Turnverein von 1885 e.V.
DTSTAMP:20260425T122521Z
LOCATION:Hein-Dahlinger-Halle\, Geschwister-Scholl-Straße 9\, 24143 Kiel
SUMMARY:KTV Adler vs. TSV Giesen GRIZZLYS II
END:VEVENT
END:VCALENDAR
