BEGIN:VCALENDAR
VERSION:2.0
PRODID:-//pretix//pretix.eu//
BEGIN:VTIMEZONE
TZID:Europe/Berlin
BEGIN:STANDARD
DTSTART:20001029T040000
RRULE:FREQ=YEARLY;BYDAY=-1SU;BYMONTH=10
TZNAME:CET
TZOFFSETFROM:+0200
TZOFFSETTO:+0100
END:STANDARD
BEGIN:DAYLIGHT
DTSTART:20000326T030000
RRULE:FREQ=YEARLY;BYDAY=-1SU;BYMONTH=3
TZNAME:CEST
TZOFFSETFROM:+0100
TZOFFSETTO:+0200
END:DAYLIGHT
END:VTIMEZONE
BEGIN:VEVENT
UID:pretix-kuekowerkstatt-CrossInnovate2-0@pretix.eu
DTSTART;TZID=Europe/Berlin:20251112T111200
DTEND;TZID=Europe/Berlin:20251112T180000
DESCRIPTION:Tickets: https://pretix.eu/kuekowerkstatt/CrossInnovate2/\nEinl
 ass: 12.11.2025 10:30\nVeranstalter: KÜKO
DTSTAMP:20260420T190125Z
LOCATION:Fichtelgebirgshof\, Himmelkron
SUMMARY:Cross Innovation Two
END:VEVENT
END:VCALENDAR
