BEGIN:VCALENDAR
VERSION:2.0
PRODID:-//pretix//pretix.eu//
BEGIN:VTIMEZONE
TZID:Europe/Berlin
BEGIN:STANDARD
DTSTART:20001029T040000
RRULE:FREQ=YEARLY;BYDAY=-1SU;BYMONTH=10
TZNAME:CET
TZOFFSETFROM:+0200
TZOFFSETTO:+0100
END:STANDARD
BEGIN:DAYLIGHT
DTSTART:20000326T030000
RRULE:FREQ=YEARLY;BYDAY=-1SU;BYMONTH=3
TZNAME:CEST
TZOFFSETFROM:+0100
TZOFFSETTO:+0200
END:DAYLIGHT
END:VTIMEZONE
BEGIN:VEVENT
UID:pretix-kukoev-100525-0@pretix.eu
DTSTART;TZID=Europe/Berlin:20250510T183000
DTEND;TZID=Europe/Berlin:20250510T193000
DESCRIPTION:Tickets: https://pretix.eu/kukoev/100525/\nVeranstalter: Kultur
 elle Koordinierung e.V. Ilmenau
DTSTAMP:20260424T101057Z
LOCATION:Curie-Hörsaal (Curiebau TU Ilmenau)\, Weimarer Str. 25\, 98693 Il
 menau
SUMMARY:Faszination Nachthimmel – Astrofotografie mit Stefan Liebermann
END:VEVENT
END:VCALENDAR
