BEGIN:VCALENDAR
VERSION:2.0
PRODID:-//pretix//pretix.eu//
BEGIN:VEVENT
UID:pretix-kukoev-blue-goat-2025-0@pretix.eu
DTSTART;VALUE=DATE:20250814
DTEND;VALUE=DATE:20250818
DESCRIPTION:Tickets: https://pretix.eu/kukoev/blue-goat-2025/\nEinlass: 14.
 08.2025 18:00\nVeranstalter: Kulturelle Koordinierung e.V. Ilmenau
DTSTAMP:20260420T183630Z
LOCATION:Campus TU Ilmenau (Freifläche bi-Studentenclub)
SUMMARY:BLUE GOAT Convention 2025
END:VEVENT
END:VCALENDAR
