BEGIN:VCALENDAR
VERSION:2.0
PRODID:-//pretix//pretix.eu//
BEGIN:VTIMEZONE
TZID:Europe/Berlin
BEGIN:STANDARD
DTSTART:20001029T040000
RRULE:FREQ=YEARLY;BYDAY=-1SU;BYMONTH=10
TZNAME:CET
TZOFFSETFROM:+0200
TZOFFSETTO:+0100
END:STANDARD
BEGIN:DAYLIGHT
DTSTART:20000326T030000
RRULE:FREQ=YEARLY;BYDAY=-1SU;BYMONTH=3
TZNAME:CEST
TZOFFSETFROM:+0100
TZOFFSETTO:+0200
END:DAYLIGHT
END:VTIMEZONE
BEGIN:VEVENT
UID:pretix-kukoev-diwali-2024-0@pretix.eu
DTSTART;TZID=Europe/Berlin:20241107T183000
DTEND;TZID=Europe/Berlin:20241107T230000
DESCRIPTION:Tickets: https://pretix.eu/kukoev/diwali-2024/\nAdmission: 2024
 -11-07 18:00\nOrganizer: Kulturelle Koordinierung e.V. Ilmenau
DTSTAMP:20260420T025645Z
LOCATION:Humboldtbau TU Ilmenau (Audimax)\, Gustav-Kirchhoff-Platz 1\, 9869
 3 Ilmenau
SUMMARY:DIWALI 2024 Ilmenau
END:VEVENT
END:VCALENDAR
