BEGIN:VCALENDAR
VERSION:2.0
PRODID:-//pretix//pretix.eu//
BEGIN:VTIMEZONE
TZID:Europe/Berlin
BEGIN:STANDARD
DTSTART:20001029T040000
RRULE:FREQ=YEARLY;BYDAY=-1SU;BYMONTH=10
TZNAME:CET
TZOFFSETFROM:+0200
TZOFFSETTO:+0100
END:STANDARD
BEGIN:DAYLIGHT
DTSTART:20000326T030000
RRULE:FREQ=YEARLY;BYDAY=-1SU;BYMONTH=3
TZNAME:CEST
TZOFFSETFROM:+0100
TZOFFSETTO:+0200
END:DAYLIGHT
END:VTIMEZONE
BEGIN:VEVENT
UID:pretix-kultur-berlin-sz-09112025-0@pretix.eu
DTSTART;TZID=Europe/Berlin:20251109T190000
DTEND;TZID=Europe/Berlin:20251109T200000
DESCRIPTION:Tickets: https://pretix.eu/kultur-berlin-sz/09112025/\nVeransta
 lter: Fachbereich Kultur Steglitz-Zehlendorf
DTSTAMP:20260424T104713Z
LOCATION:Kulturhaus Schwartzsche Villa\, Grunewaldstraße 55\, 12165 Berlin
 -Steglitz
SUMMARY:Konzert: Astor Piazzolla – Canciones y Baladas
END:VEVENT
END:VCALENDAR
